BEGIN:VCALENDAR
VERSION:2.0
PRODID:gruene-potsdam-mittelmark.de
METHOD:PUBLISH
BEGIN:VTIMEZONE
TZID:Europe/Berlin
X-LIC-LOCATION:Europe/Berlin
BEGIN:DAYLIGHT
TZOFFSETFROM:+0100
TZOFFSETTO:+0200
TZNAME:CEST
DTSTART:19700329T020000
RRULE:FREQ=YEARLY;INTERVAL=1;BYDAY=-1SU;BYMONTH=3
END:DAYLIGHT
BEGIN:STANDARD
TZOFFSETFROM:+0200
TZOFFSETTO:+0100
TZNAME:CET
DTSTART:19701025T030000
RRULE:FREQ=YEARLY;INTERVAL=1;BYDAY=-1SU;BYMONTH=10
END:STANDARD
END:VTIMEZONE
BEGIN:VEVENT
UID:7856f0813505bd413223625fabf9c128@gruene-potsdam-mittelmark.de
URL;VALUE=URI:https://gruene-potsdam-mittelmark.de/blog/termine/fast-waer
 s-das-paradies/
LOCATION:Kulturzentrum Bad Belzig, Weitzgrunder Straße 4, Bad Belzig
SUMMARY:Fast wär’s das Paradies
DESCRIPTION;ALTREP="data:text/html,%0A%3Cp%3EAus%20dem%20Logbuch%20einer%
 20politischen%20Weltumsegelung.%20Ein%20Multimedia-Vortrag%20von%20Uta%20
 %26amp%3B%20Michael%20Jungclaus%3C%2Fp%3E%0A%0A%0A%0A%3Cp%3E%3C%2Fp%3E%0A
 ":Aus dem Logbuch einer politischen Weltumsegelung. Ein Multimedia-Vortra
 g von Uta & Michael Jungclaus
CLASS:PUBLIC
DTSTART;TZID=Europe/Berlin:20250125T160000
DTEND;TZID=Europe/Berlin:20250125T170000
DTSTAMP:20260421T101840
END:VEVENT
END:VCALENDAR