BEGIN:VCALENDAR
VERSION:2.0
PRODID:gruene-potsdam-mittelmark.de
METHOD:PUBLISH
BEGIN:VTIMEZONE
TZID:Europe/Berlin
X-LIC-LOCATION:Europe/Berlin
BEGIN:DAYLIGHT
TZOFFSETFROM:+0100
TZOFFSETTO:+0200
TZNAME:CEST
DTSTART:19700329T020000
RRULE:FREQ=YEARLY;INTERVAL=1;BYDAY=-1SU;BYMONTH=3
END:DAYLIGHT
BEGIN:STANDARD
TZOFFSETFROM:+0200
TZOFFSETTO:+0100
TZNAME:CET
DTSTART:19701025T030000
RRULE:FREQ=YEARLY;INTERVAL=1;BYDAY=-1SU;BYMONTH=10
END:STANDARD
END:VTIMEZONE
BEGIN:VEVENT
UID:3f8428f60a754b8a6f90a3043004abd2@gruene-potsdam-mittelmark.de
URL;VALUE=URI:https://gruene-potsdam-mittelmark.de/blog/termine/kreisvors
 tandssitzung-september-2026/
LOCATION:digital
SUMMARY:Kreisvorstandssitzung (September 2026)
DESCRIPTION;ALTREP="data:text/html,":
CLASS:PUBLIC
DTSTART;TZID=Europe/Berlin:20260908T190000
DTEND;TZID=Europe/Berlin:20260908T210000
DTSTAMP:20260421T154537
END:VEVENT
END:VCALENDAR